BEGIN:VCALENDAR
VERSION:2.0
PRODID:-//wp-events-plugin.com//7.2.3.1//EN
TZID:Europe/London
X-WR-TIMEZONE:Europe/London
BEGIN:VEVENT
UID:143@cvrda.org
DTSTART;TZID=Europe/London;VALUE=DATE:20240810
DTEND;TZID=Europe/London;VALUE=DATE:20240812
DTSTAMP:20240709T161023Z
URL:https://www.cvrda.org/events/bowmoor-rally-2024/
SUMMARY:Bowmoor Rally 2024 - Bowmoor Sailing Club - 10 Aug 24 00:00
DESCRIPTION:The format will be similar to previous years and it is intended
  to have 3 races on Saturday and 2 on Sunday. Camping on site on the large
  grassed area is permitted for tents\, caravans and motorhomes and toilets
 / showers will be accessible throughout the weekend. For those wishing to 
 arrive on Friday there will be someone there to let you in through the bar
 rier from lunchtime onwards.\n\nThe galley will be manned both days and th
 e well stocked bar will be open in the evenings. There will be a registrat
 ion desk in the clubhouse from 09:30 on the Saturday morning for all compe
 titors even if you have entered online. This is to gather data on each boa
 t for handicapping purposes as well as to complete declaration forms and p
 ick up a set of SI's if required.\n\nAfter registration it is advisable to
  go straight to the galley and order lunch (if required) in order to reduc
 e waiting times when we come in after the first race. The club would prefe
 r people to pre-enter online if possible so they have a better idea of num
 bers\, however\, it will still be possible to enter on the day if you make
  a late decision to attend.\n\nThere will be a briefing at 11:00 on Saturd
 ay and the first warning signals will be at 11:25 on Saturday and 09:55 on
  Sunday.\n\nThe Notice of Race is about to be put on the Bowmoor website 
 https://bowmoor.com/ under Racing- open meetings- events and then it shou
 ld be possible to enter online.
CATEGORIES:A CVRDA Travellers Series
LOCATION:Bowmoor Sailing Club\, Coln Park Lake\, Fairford Road\, Lechlade\,
  Gloucestershire\, GL7 3DT\, United Kingdom
GEO:51.699267;-1.737728
X-APPLE-STRUCTURED-LOCATION;VALUE=URI;X-ADDRESS=Coln Park Lake\, Fairford R
 oad\, Lechlade\, Gloucestershire\, GL7 3DT\, United Kingdom;X-APPLE-RADIUS
 =100;X-TITLE=Bowmoor Sailing Club:geo:51.699267,-1.737728
END:VEVENT
BEGIN:VTIMEZONE
TZID:Europe/London
X-LIC-LOCATION:Europe/London
BEGIN:DAYLIGHT
DTSTART:20240331T020000
TZOFFSETFROM:+0000
TZOFFSETTO:+0100
TZNAME:BST
END:DAYLIGHT
END:VTIMEZONE
END:VCALENDAR