BEGIN:VCALENDAR
VERSION:2.0
PRODID:-//wp-events-plugin.com//7.2.3.1//EN
TZID:Europe/London
X-WR-TIMEZONE:Europe/London
BEGIN:VEVENT
UID:160@cvrda.org
DTSTART;TZID=Europe/London:20260808T000000
DTEND;TZID=Europe/London:20260809T000000
DTSTAMP:20251226T094329Z
URL:https://www.cvrda.org/events/bowmoor-rally-2026-date-to-be-finalised/
SUMMARY:Bowmoor Rally 2026 - Bowmoor Sailing Club - 8 Aug 26 00:00
DESCRIPTION:
CATEGORIES:A CVRDA Travellers Series
LOCATION:Bowmoor Sailing Club\, Coln Park Lake\, Fairford Road\, Lechlade\,
  Gloucestershire\, GL7 3DT\, United Kingdom
GEO:51.699267;-1.737728
X-APPLE-STRUCTURED-LOCATION;VALUE=URI;X-ADDRESS=Coln Park Lake\, Fairford R
 oad\, Lechlade\, Gloucestershire\, GL7 3DT\, United Kingdom;X-APPLE-RADIUS
 =100;X-TITLE=Bowmoor Sailing Club:geo:51.699267,-1.737728
END:VEVENT
BEGIN:VTIMEZONE
TZID:Europe/London
X-LIC-LOCATION:Europe/London
BEGIN:DAYLIGHT
DTSTART:20260329T020000
TZOFFSETFROM:+0000
TZOFFSETTO:+0100
TZNAME:BST
END:DAYLIGHT
END:VTIMEZONE
END:VCALENDAR