BEGIN:VCALENDAR
VERSION:2.0
PRODID:-//wp-events-plugin.com//7.2.3.1//EN
TZID:Europe/London
X-WR-TIMEZONE:Europe/London
BEGIN:VEVENT
UID:161@cvrda.org
DTSTART;TZID=Europe/London:20260829T000000
DTEND;TZID=Europe/London:20260831T000000
DTSTAMP:20251222T052758Z
URL:https://www.cvrda.org/events/clywedog-national-rally-2026-to-be-finali
 sed/
SUMMARY:Clywedog National Rally 2026 (to be finalised) - Clywedog Sailing C
 lub - 29 Aug 26 00:00
DESCRIPTION:
CATEGORIES:A CVRDA Travellers Series
LOCATION:Clywedog Sailing Club\, Llyn Clywedog\, Llanidloes\, Powys\, Unite
 d Kingdom
GEO:52.476422;-3.619733
X-APPLE-STRUCTURED-LOCATION;VALUE=URI;X-ADDRESS=Llyn Clywedog\, Llanidloes\
 , Powys\, United Kingdom;X-APPLE-RADIUS=100;X-TITLE=Clywedog Sailing Club:
 geo:52.476422,-3.619733
END:VEVENT
BEGIN:VTIMEZONE
TZID:Europe/London
X-LIC-LOCATION:Europe/London
BEGIN:DAYLIGHT
DTSTART:20260329T020000
TZOFFSETFROM:+0000
TZOFFSETTO:+0100
TZNAME:BST
END:DAYLIGHT
END:VTIMEZONE
END:VCALENDAR