BEGIN:VCALENDAR
VERSION:2.0
PRODID:-//wp-events-plugin.com//7.2.3.1//EN
TZID:Europe/London
X-WR-TIMEZONE:Europe/London
BEGIN:VEVENT
UID:159@cvrda.org
DTSTART;TZID=Europe/London:20260523T000000
DTEND;TZID=Europe/London:20260525T000000
DTSTAMP:20260418T073242Z
URL:https://www.cvrda.org/events/nantwich-rally-2026/
SUMMARY:Nantwich Rally 2026 - CANCELLED (new date tba) - Nantwich and Borde
 rs S.C. - 23 May 26 00:00
DESCRIPTION:Nantwich have offered us an event on the second May bank Holida
 y weekend. Now CANCELLED due to full calendar. Later date being discussed.
CATEGORIES:A CVRDA Travellers Series
LOCATION:Nantwich and Borders S.C.\, Bridgemere\, Nantwich\, Cheshire\, CW5
  7PU\, United Kingdom
GEO:53.013988;-2.43093
X-APPLE-STRUCTURED-LOCATION;VALUE=URI;X-ADDRESS=Bridgemere\, Nantwich\, Che
 shire\, CW5 7PU\, United Kingdom;X-APPLE-RADIUS=100;X-TITLE=Nantwich and B
 orders S.C.:geo:53.013988,-2.43093
END:VEVENT
BEGIN:VTIMEZONE
TZID:Europe/London
X-LIC-LOCATION:Europe/London
BEGIN:DAYLIGHT
DTSTART:20260329T020000
TZOFFSETFROM:+0000
TZOFFSETTO:+0100
TZNAME:BST
END:DAYLIGHT
END:VTIMEZONE
END:VCALENDAR