BEGIN:VCALENDAR
VERSION:2.0
PRODID:-//wp-events-plugin.com//7.2.3.1//EN
TZID:Europe/London
X-WR-TIMEZONE:Europe/London
BEGIN:VEVENT
UID:156@cvrda.org
DTSTART;TZID=Europe/London;VALUE=DATE:20260704
DTEND;TZID=Europe/London;VALUE=DATE:20260706
DTSTAMP:20250910T054650Z
URL:https://www.cvrda.org/events/roadford-rally-2026/
SUMMARY:Roadford Rally 2026 - Roadford Lake Sailing Club - 4 Jul 26 00:00
DESCRIPTION:
CATEGORIES:A CVRDA Travellers Series
LOCATION:Roadford Lake Sailing Club\, Goodacre Farm\, Broadwoodwidger\, Lif
 ton\, Devon\, PL16 0JL\, United Kingdom
GEO:50.695527;-4.239395
X-APPLE-STRUCTURED-LOCATION;VALUE=URI;X-ADDRESS=Goodacre Farm\, Broadwoodwi
 dger\, Lifton\, Devon\, PL16 0JL\, United Kingdom;X-APPLE-RADIUS=100;X-TIT
 LE=Roadford Lake Sailing Club:geo:50.695527,-4.239395
END:VEVENT
BEGIN:VTIMEZONE
TZID:Europe/London
X-LIC-LOCATION:Europe/London
BEGIN:DAYLIGHT
DTSTART:20260329T020000
TZOFFSETFROM:+0000
TZOFFSETTO:+0100
TZNAME:BST
END:DAYLIGHT
END:VTIMEZONE
END:VCALENDAR